BEGIN:VCALENDAR
VERSION:2.0
PRODID:-//Padesky.com - ECPv6.15.20//NONSGML v1.0//EN
CALSCALE:GREGORIAN
METHOD:PUBLISH
X-ORIGINAL-URL:https://www.padesky.com
X-WR-CALDESC:Events for Padesky.com
REFRESH-INTERVAL;VALUE=DURATION:PT1H
X-Robots-Tag:noindex
X-PUBLISHED-TTL:PT1H
BEGIN:VTIMEZONE
TZID:America/Los_Angeles
BEGIN:DAYLIGHT
TZOFFSETFROM:-0800
TZOFFSETTO:-0700
TZNAME:PDT
DTSTART:20100314T100000
END:DAYLIGHT
BEGIN:STANDARD
TZOFFSETFROM:-0700
TZOFFSETTO:-0800
TZNAME:PST
DTSTART:20101107T090000
END:STANDARD
BEGIN:DAYLIGHT
TZOFFSETFROM:-0800
TZOFFSETTO:-0700
TZNAME:PDT
DTSTART:20110313T100000
END:DAYLIGHT
BEGIN:STANDARD
TZOFFSETFROM:-0700
TZOFFSETTO:-0800
TZNAME:PST
DTSTART:20111106T090000
END:STANDARD
BEGIN:DAYLIGHT
TZOFFSETFROM:-0800
TZOFFSETTO:-0700
TZNAME:PDT
DTSTART:20120311T100000
END:DAYLIGHT
BEGIN:STANDARD
TZOFFSETFROM:-0700
TZOFFSETTO:-0800
TZNAME:PST
DTSTART:20121104T090000
END:STANDARD
BEGIN:DAYLIGHT
TZOFFSETFROM:-0800
TZOFFSETTO:-0700
TZNAME:PDT
DTSTART:20130310T100000
END:DAYLIGHT
BEGIN:STANDARD
TZOFFSETFROM:-0700
TZOFFSETTO:-0800
TZNAME:PST
DTSTART:20131103T090000
END:STANDARD
END:VTIMEZONE
BEGIN:VEVENT
DTSTART;VALUE=DATE:20120324
DTEND;VALUE=DATE:20120326
DTSTAMP:20260421T165240
CREATED:20160407T050835Z
LAST-MODIFIED:20220701T222927Z
UID:3588-1332547200-1332719999@www.padesky.com
SUMMARY:Incorporating Strengths into Collaborative Case Conceptualization to Build  Resilience (Japan 2012)
DESCRIPTION:TOKOYO\, JAPAN \nPadesky offers a step-by-step model to guide therapists’ treatment planning with complex cases\, especially when no single treatment model applies. \nSHARE with your Mental Health Colleagues
URL:https://www.padesky.com/event/incorporating-strengths-collaborative-case-conceptualization-build-resilience-japan-2012/
LOCATION:Hotel Laforet Tokyo\, 7-36\, Kita-Shinagawa 4-Chome\, Tokoyo\, 140-0001\, Japan
CATEGORIES:CASE CONCEPTUALIZATION,Strengths & Resilience
ATTACH;FMTTYPE=image/jpeg:https://www.padesky.com/wp-content/uploads/2016/04/Japan-psych-consultation-ctr-logo_opt.jpg
END:VEVENT
BEGIN:VEVENT
DTSTART;TZID=America/Los_Angeles:20111107T090000
DTEND;TZID=America/Los_Angeles:20111107T160000
DTSTAMP:20260421T165240
CREATED:20160407T071217Z
LAST-MODIFIED:20220701T222906Z
UID:3606-1320656400-1320681600@www.padesky.com
SUMMARY:Collaborative Case Conceptualization: Incorporate Strengths to Build Resilience (Australia 2011)
DESCRIPTION:MELBOURNE\, AUSTRALIA \n6 hour workshop \nPresenter: Christine A. Padesky\, PhD \nSponsor: AACBT Victoria Branch \nSHARE with your Mental Health Colleagues
URL:https://www.padesky.com/event/collaborative-case-conceptualization-incorporate-strengths-build-resilience-australia-2011/
LOCATION:Novatel Melbourne St Kilda\, 16 The Esplanade\, St Kilda\, VIC\, 3182\, Australia
CATEGORIES:CASE CONCEPTUALIZATION,Strengths & Resilience
ATTACH;FMTTYPE=image/jpeg:https://www.padesky.com/wp-content/uploads/2016/04/Australian-Assoc-CBT-logo.jpg
END:VEVENT
BEGIN:VEVENT
DTSTART;TZID=America/Los_Angeles:20111102T090000
DTEND;TZID=America/Los_Angeles:20111102T160000
DTSTAMP:20260421T165240
CREATED:20160407T070022Z
LAST-MODIFIED:20220701T222848Z
UID:3603-1320224400-1320249600@www.padesky.com
SUMMARY:Constructing New Core Beliefs: A CBT Master Class (Australia 2011)
DESCRIPTION:ADELAIDE\, AUSTRALIA \n6 hr Master Class \nPresenter: Christine A. Padesky \nSponsor: AACBT South Australia Branch \nSHARE with your Mental Health Colleagues
URL:https://www.padesky.com/event/constructing-new-core-beliefs-cbt-master-class-australia-2011/
LOCATION:Adelaide Convention Centre\, North Terrace\, Adelaide\, SA\, 5000\, Australia
CATEGORIES:MASTER CLASS
ATTACH;FMTTYPE=image/jpeg:https://www.padesky.com/wp-content/uploads/2016/04/Australian-Assoc-CBT-logo.jpg
END:VEVENT
BEGIN:VEVENT
DTSTART;VALUE=DATE:20111029
DTEND;VALUE=DATE:20111031
DTSTAMP:20260421T165240
CREATED:20160407T064341Z
LAST-MODIFIED:20220701T222818Z
UID:3598-1319846400-1320019199@www.padesky.com
SUMMARY:Simplifying Personality Disorder Treatment: A NEW Paradigm for CBT (Australia 2011)
DESCRIPTION:SYDNEY\, AUSTRALIA \n2 day / 12 hour workshop \n  \nSHARE with your Mental Health Colleagues
URL:https://www.padesky.com/event/simplifying-personality-disorder-treatment-new-paradigm-cbt-australia-2011/
LOCATION:Hilton Sydney Hotel\, 488 George Street \, Sydney\, NSW\, 2000\, Australia
CATEGORIES:Personality Disorders
ATTACH;FMTTYPE=image/jpeg:https://www.padesky.com/wp-content/uploads/2016/04/Australian-Assoc-CBT-logo.jpg
END:VEVENT
BEGIN:VEVENT
DTSTART;TZID=America/Los_Angeles:20111026T110000
DTEND;TZID=America/Los_Angeles:20111026T120000
DTSTAMP:20260421T165240
CREATED:20160407T064744Z
LAST-MODIFIED:20220701T222741Z
UID:3602-1319626800-1319630400@www.padesky.com
SUMMARY:The Evolution & Future of CBT: A Personal Perspective (Australia 2011)
DESCRIPTION:SYDNEY\, AUSTRALIA \nInvited Keynote Address\n34th National Conference of the Australian Association for Cognitive and Behaviour Therapy (AACBT)\, Sydney \nPresenter: Christine A. Padesky\, PhD \nSHARE with your Mental Health Colleagues
URL:https://www.padesky.com/event/evolution-future-cbt-personal-perspective-australia-2011/
LOCATION:Hilton Sydney Hotel\, 488 George Street \, Sydney\, NSW\, 2000\, Australia
CATEGORIES:Strengths & Resilience
ATTACH;FMTTYPE=image/jpeg:https://www.padesky.com/wp-content/uploads/2016/04/Australian-Assoc-CBT-logo.jpg
END:VEVENT
END:VCALENDAR