BEGIN:VCALENDAR
VERSION:2.0
PRODID:-//Padesky.com - ECPv6.15.20//NONSGML v1.0//EN
CALSCALE:GREGORIAN
METHOD:PUBLISH
X-ORIGINAL-URL:https://www.padesky.com
X-WR-CALDESC:Events for Padesky.com
REFRESH-INTERVAL;VALUE=DURATION:PT1H
X-Robots-Tag:noindex
X-PUBLISHED-TTL:PT1H
BEGIN:VTIMEZONE
TZID:America/Los_Angeles
BEGIN:DAYLIGHT
TZOFFSETFROM:-0800
TZOFFSETTO:-0700
TZNAME:PDT
DTSTART:20160313T100000
END:DAYLIGHT
BEGIN:STANDARD
TZOFFSETFROM:-0700
TZOFFSETTO:-0800
TZNAME:PST
DTSTART:20161106T090000
END:STANDARD
BEGIN:DAYLIGHT
TZOFFSETFROM:-0800
TZOFFSETTO:-0700
TZNAME:PDT
DTSTART:20170312T100000
END:DAYLIGHT
BEGIN:STANDARD
TZOFFSETFROM:-0700
TZOFFSETTO:-0800
TZNAME:PST
DTSTART:20171105T090000
END:STANDARD
BEGIN:DAYLIGHT
TZOFFSETFROM:-0800
TZOFFSETTO:-0700
TZNAME:PDT
DTSTART:20180311T100000
END:DAYLIGHT
BEGIN:STANDARD
TZOFFSETFROM:-0700
TZOFFSETTO:-0800
TZNAME:PST
DTSTART:20181104T090000
END:STANDARD
END:VTIMEZONE
BEGIN:VEVENT
DTSTART;TZID=America/Los_Angeles:20171217T081500
DTEND;TZID=America/Los_Angeles:20171217T111500
DTSTAMP:20260421T034720
CREATED:20170711T033335Z
LAST-MODIFIED:20230531T023046Z
UID:4759-1513498500-1513509300@www.padesky.com
SUMMARY:More Walk\, Less Talk: Action-Packed Therapy (USA 2017)
DESCRIPTION:ANAHEIM\, CALIFORNIA \nWORKSHOP 33: More Walk\, Less Talk: Action-Packed Therapy (3 hours) \nPRESENTER: Christine A. Padesky\, PhD / Center for Cognitive Therapy\, Huntington Beach\, California \nWORKSHOP SPONSOR: The Milton H. Erickson Foundation \nWHAT: The Evolution of Psychotherapy 2017 \nWHEN: December 17\, 2017 @ 8:15 am – 11:15 am \nWHERE: Anaheim Convention Center\, 800 W Katella Ave\, Anaheim\, CA 92802 \nREGISTRATION FEES: Full Conference or Single Day Admission required. See FEE SCHEDULE for details. \nCONFERENCE INFORMATION: Visit the Evolution Website for up-to-date information \nCONTACT: The Milton H. Erickson Foundation / 877-212-6678 / support@erickson-foundation.org \n*** USE this link for details on all of Padesky’s presentations: Padesky at the EVOLUTION of Psychotherapy [link no longer active] \nSHARE with your Mental Health Colleagues
URL:https://www.padesky.com/event/walk-less-talk-action-packed-therapy-usa-2017/
LOCATION:Anaheim Convention Center\, 800 W Katella Ave\, Anaheim\, CA\, 92802\, United States
CATEGORIES:EVOLUTION of Psychotherapy
ATTACH;FMTTYPE=image/png:https://www.padesky.com/wp-content/uploads/2016/07/EvolPsych2017-landingdates_opt350x140.png
END:VEVENT
BEGIN:VEVENT
DTSTART;TZID=America/Los_Angeles:20171216T143000
DTEND;TZID=America/Los_Angeles:20171216T173000
DTSTAMP:20260421T034720
CREATED:20170711T033758Z
LAST-MODIFIED:20230531T023046Z
UID:4761-1513434600-1513445400@www.padesky.com
SUMMARY:Mind Over Mood: Practical Applications for Therapists (USA 2017)
DESCRIPTION:ANAHEIM\, CALIFORNIA \nWORSHOP 24: Mind Over Mood: Practical Applications for Therapists (3 hours) \nPRESENTERS: Christine A. Padesky\, PhD / Center for Cognitive Therapy\, Huntington Beach\, California \nWORKSHOP SPONSOR: The Milton H. Erickson Foundation \nWHAT: The Evolution of Psychotherapy 2017 \nWHEN: December 16\, 2017 @ 2:30 pm – 5:30 pm \nWHERE: Anaheim Convention Center\, 800 W Katella Ave\, Anaheim\, CA 92802 \nREGISTRATION FEES: Full Conference or Single Day Admission required. See FEE SCHEDULE for details. \nCONFERENCE INFORMATION: Visit the Evolution Website for up-to-date information \nCONTACT: The Milton H. Erickson Foundation / 877-212-6678 / support@erickson-foundation.org \n*** USE this link for details on all of Padesky’s presentations: Padesky at the EVOLUTION of Psychotherapy [link no longer active] \nSHARE with your Mental Health Colleagues
URL:https://www.padesky.com/event/mind-mood-practical-applications-therapists-usa-2017/
LOCATION:Anaheim Convention Center\, 800 W Katella Ave\, Anaheim\, CA\, 92802\, United States
CATEGORIES:EVOLUTION of Psychotherapy
ATTACH;FMTTYPE=image/png:https://www.padesky.com/wp-content/uploads/2016/07/EvolPsych2017-landingdates_opt350x140.png
END:VEVENT
BEGIN:VEVENT
DTSTART;TZID=America/Los_Angeles:20171216T092000
DTEND;TZID=America/Los_Angeles:20171216T102000
DTSTAMP:20260421T034720
CREATED:20170711T033023Z
LAST-MODIFIED:20230531T023046Z
UID:4758-1513416000-1513419600@www.padesky.com
SUMMARY:The Patient Therapist Relationship (USA 2017)
DESCRIPTION:ANAHEIM\, CALIFORNIA \n TOPICAL PANEL 15: The Patient Therapist Relationship (1 hour) \nPRESENTERS: Christine A. Padesky\, PhD / Center for Cognitive Therapy\, Huntington Beach\, California; Harville Hendrix\, PhD\, co-creator of Imago Relationship Therapy; and Bill O’Hanlon\, LMFT\, psychotherapist\, author\, and speaker \nWORKSHOP SPONSOR: The Milton H. Erickson Foundation \nWHAT: The Evolution of Psychotherapy 2017 \nWHEN: December 16\, 2017 @ 9:20 am – 10:20 am \nWHERE: Anaheim Convention Center\, 800 W Katella Ave\, Anaheim\, CA 92802 \nREGISTRATION FEES: Full Conference or Single Day Admission required. See FEE SCHEDULE for details. \nCONFERENCE INFORMATION: Visit the Evolution Website for up-to-date information \nCONTACT: The Milton H. Erickson Foundation / 877-212-6678 / support@erickson-foundation.org \n*** USE this link for details on all of Padesky’s presentations: Padesky at the EVOLUTION of Psychotherapy [link no longer active] \nSHARE with your Mental Health Colleagues
URL:https://www.padesky.com/event/patient-therapist-relationship-usa-2017/
LOCATION:Anaheim Convention Center\, 800 W Katella Ave\, Anaheim\, CA\, 92802\, United States
CATEGORIES:EVOLUTION of Psychotherapy
ATTACH;FMTTYPE=image/png:https://www.padesky.com/wp-content/uploads/2016/07/EvolPsych2017-landingdates_opt350x140.png
END:VEVENT
BEGIN:VEVENT
DTSTART;TZID=America/Los_Angeles:20171215T183000
DTEND;TZID=America/Los_Angeles:20171215T193000
DTSTAMP:20260421T034720
CREATED:20170711T032132Z
LAST-MODIFIED:20230531T023046Z
UID:4757-1513362600-1513366200@www.padesky.com
SUMMARY:Author's Book Signing Reception (USA 2017)
DESCRIPTION:ANAHEIM\, CALIFORNIA \nAUTHOR’S BOOK SIGNING RECEPTION: conference authors are available for book signing and brief conversation (1 hour) \nAUTHOR: Christine A. Padesky\, PhD / Center for Cognitive Therapy\, Huntington Beach\, California; Mind Over Mood (2nd edition)\, Collaborative Case Conceptualization \nWORKSHOP SPONSOR: The Milton H. Erickson Foundation \nWHAT: The Evolution of Psychotherapy 2017 \nWHEN: December 15\, 2017 @ 6:30 pm – 7:30 pm \nWHERE: Anaheim Convention Center\, 800 W Katella Ave\, Anaheim\, CA 92802 \nREGISTRATION FEES: Full Conference or Single Day Admission required. See FEE SCHEDULE for details. \nCONFERENCE INFORMATION: Visit the Evolution Website for up-to-date information \nCONTACT: The Milton H. Erickson Foundation / 877-212-6678 / support@erickson-foundation.org \n*** USE this link for details on all of Padesky’s presentations: Padesky at the EVOLUTION of Psychotherapy [link no longer active] \nSHARE with your Mental Health Colleagues
URL:https://www.padesky.com/event/authors-book-signing-reception-usa-2017/
LOCATION:Anaheim Convention Center\, 800 W Katella Ave\, Anaheim\, CA\, 92802\, United States
CATEGORIES:EVOLUTION of Psychotherapy
ATTACH;FMTTYPE=image/png:https://www.padesky.com/wp-content/uploads/2016/07/EvolPsych2017-landingdates_opt350x140.png
END:VEVENT
BEGIN:VEVENT
DTSTART;TZID=America/Los_Angeles:20171215T171000
DTEND;TZID=America/Los_Angeles:20171215T181000
DTSTAMP:20260421T034720
CREATED:20170711T031610Z
LAST-MODIFIED:20230531T023046Z
UID:4756-1513357800-1513361400@www.padesky.com
SUMMARY:Would You Look for Something You Did Not Know Was Lost? (USA 2017)
DESCRIPTION:ANAHEIM\, CALIFORNIA \nSPEECH 13: Would You Look for Something You Did Not Know Was Lost? (1 hour) \nSPEAKER: Christine A. Padesky\, PhD / Center for Cognitive Therapy\, Huntington Beach\, California \nWORKSHOP SPONSOR: The Milton H. Erickson Foundation \nWHAT: The Evolution of Psychotherapy 2017 \nWHEN: December 15\, 2017 @ 5:10 pm – 6:10 pm \nWHERE: Anaheim Convention Center\, 800 W Katella Ave\, Anaheim\, CA 92802 \nREGISTRATION FEES: Full Conference or Single Day Admission required. See FEE SCHEDULE for details. \nCONFERENCE INFORMATION: Visit the Evolution Website for up-to-date information \nCONTACT: The Milton H. Erickson Foundation / 877-212-6678 / support@erickson-foundation.org \n*** USE this link for details on all of Padesky’s presentations: Padesky at the EVOLUTION of Psychotherapy [link no longer active] \nSHARE with your Mental Health Colleagues
URL:https://www.padesky.com/event/look-something-not-know-lost-usa-2017/
LOCATION:Anaheim Convention Center\, 800 W Katella Ave\, Anaheim\, CA\, 92802\, United States
CATEGORIES:EVOLUTION of Psychotherapy
ATTACH;FMTTYPE=image/png:https://www.padesky.com/wp-content/uploads/2016/07/EvolPsych2017-landingdates_opt350x140.png
END:VEVENT
BEGIN:VEVENT
DTSTART;TZID=America/Los_Angeles:20171215T143000
DTEND;TZID=America/Los_Angeles:20171215T153000
DTSTAMP:20260421T034720
CREATED:20170711T030857Z
LAST-MODIFIED:20230531T023046Z
UID:4753-1513348200-1513351800@www.padesky.com
SUMMARY:The Role of the Therapist (USA 2017)
DESCRIPTION:ANAHEIM\, CALIFORNIA \nTOPICAL PANEL 08: The Role of the Therapist (1 hour) \nPRESENTERS: Christine A. Padesky\, PhD / Center for Cognitive Therapy\, Huntington Beach\, California; Don Meichenbaum\, PhD\,  Research Director of Melissa Institute for Violence Prevention\, Miami; and Michele Weiner-Davis\, LCSW\,  Founder of The Divorce Busting Center in Boulder\, Colorado \nWORKSHOP SPONSOR: The Milton H. Erickson Foundation \nWHAT: The Evolution of Psychotherapy 2017 \nWHEN: December 15\, 2017 @ 2:30 pm – 3:30 pm \nWHERE: Anaheim Convention Center\, 800 W Katella Ave\, Anaheim\, CA 92802 \nREGISTRATION FEES: Full Conference or Single Day Admission required. See FEE SCHEDULE for details. \nCONFERENCE INFORMATION: Visit the Evolution Website for up-to-date information \nCONTACT: The Milton H. Erickson Foundation / 877-212-6678 / support@erickson-foundation.org \n*** USE this link for details on all of Padesky’s presentations: Padesky at the EVOLUTION of Psychotherapy [link no longer active] \nSHARE with your Mental Health Colleagues
URL:https://www.padesky.com/event/role-therapist-usa-2017/
LOCATION:Anaheim Convention Center\, 800 W Katella Ave\, Anaheim\, CA\, 92802\, United States
CATEGORIES:EVOLUTION of Psychotherapy
ATTACH;FMTTYPE=image/png:https://www.padesky.com/wp-content/uploads/2016/07/EvolPsych2017-landingdates_opt350x140.png
END:VEVENT
BEGIN:VEVENT
DTSTART;TZID=America/Los_Angeles:20171214T141500
DTEND;TZID=America/Los_Angeles:20171214T154500
DTSTAMP:20260421T034720
CREATED:20170711T030100Z
LAST-MODIFIED:20230531T023045Z
UID:4750-1513260900-1513266300@www.padesky.com
SUMMARY:Cognitive Behavioral Therapy and Buddhism/Mindfulness (USA 2017)
DESCRIPTION:ANAHEIM\, CALIFORNIA \nGREAT DEBATE 09: Cognitive Behavioral Therapy and Buddhism/Mindfulness: Similarities and Differences (90 min) \nPRESENTERS: Christine A. Padesky\, PhD / Center for Cognitive Therapy\, Huntington Beach\, California; and Jack Kornfield\, Vipassana Meditation Teacher \nWORKSHOP SPONSOR: The Milton H. Erickson Foundation \nWHAT: The Evolution of Psychotherapy 2017 \nWHEN: December 14\, 2017 @ 2:15 pm – 3:45 pm \nWHERE: Anaheim Convention Center\, 800 W Katella Ave\, Anaheim\, CA 92802 \nREGISTRATION FEES: Full Conference or Single Day Admission required. See FEE SCHEDULE for details. \nCONFERENCE INFORMATION: Visit the Evolution Website for up-to-date information \nCONTACT: The Milton H. Erickson Foundation / 877-212-6678 / support@erickson-foundation.org \n*** USE this link for details on all of Padesky’s presentations:Padesky at the EVOLUTION of Psychotherapy [link no longer active] \nSHARE with your Mental Health Colleagues
URL:https://www.padesky.com/event/cognitive-behavioral-therapy-buddhismmindfulness-usa-2017/
LOCATION:Anaheim Convention Center\, 800 W Katella Ave\, Anaheim\, CA\, 92802\, United States
CATEGORIES:EVOLUTION of Psychotherapy
ATTACH;FMTTYPE=image/png:https://www.padesky.com/wp-content/uploads/2016/07/EvolPsych2017-landingdates_opt350x140.png
END:VEVENT
BEGIN:VEVENT
DTSTART;TZID=America/Los_Angeles:20171214T083000
DTEND;TZID=America/Los_Angeles:20171214T100000
DTSTAMP:20260421T034720
CREATED:20170711T023825Z
LAST-MODIFIED:20230531T023045Z
UID:4740-1513240200-1513245600@www.padesky.com
SUMMARY:Behavioral Experiments: Action-Based Learning (USA 2017)
DESCRIPTION:ANAHEIM\, CALIFORNIA \nCLINICAL DEMONSTRATION 02: Behavioral Experiments: Action-Based Learning (90 min) \nPRESENTER: Christine A. Padesky\, PhD / Center for Cognitive Therapy\, Huntington Beach\, California \nDISCUSSANT: William Miller\, PhD / Emeritus Distinguished Professor of Psychology and Psychiatry at the University of New Mexico \nWORKSHOP SPONSOR: The Milton H. Erickson Foundation \nWHAT: The Evolution of Psychotherapy 2017 \nWHEN: December 14\, 2017 @ 8:30 am – 10:00 am \nWHERE: Anaheim Convention Center\, 800 W Katella Ave\, Anaheim\, CA 92802 \nREGISTRATION FEES: Full Conference or Single Day Admission required. See FEE SCHEDULE for details. \nCONFERENCE INFORMATION: Visit the Evolution Website for up-to-date information \nCONTACT: The Milton H. Erickson Foundation / 877-212-6678 / support@erickson-foundation.org \n*** USE this link for details on all of Padesky’s presentations:Padesky at the EVOLUTION of Psychotherapy [link no longer active] \nHere’s a Brief History of the Evolution of Psychotherapy \n \nSHARE with your Mental Health Colleagues
URL:https://www.padesky.com/event/behavioral-experiments-action-based-learning-usa-2017/
LOCATION:Anaheim Convention Center\, 800 W Katella Ave\, Anaheim\, CA\, 92802\, United States
CATEGORIES:EVOLUTION of Psychotherapy
ATTACH;FMTTYPE=image/png:https://www.padesky.com/wp-content/uploads/2016/07/EvolPsych2017-landingdates_opt350x140.png
END:VEVENT
BEGIN:VEVENT
DTSTART;VALUE=DATE:20171213
DTEND;VALUE=DATE:20171218
DTSTAMP:20260421T034720
CREATED:20160717T102414Z
LAST-MODIFIED:20230531T023045Z
UID:3976-1513123200-1513555199@www.padesky.com
SUMMARY:The Evolution of Psychotherapy Conference (USA 2017)
DESCRIPTION:ANAHEIM\, CALIFORNIA \nThe Evolution of Psychotherapy 2017\, a five day conference sponsored by the Milton H. Erickson Foundation \n*** USE this link for details on all of Padesky’s presentations: Padesky at the EVOLUTION of Psychotherapy [link no longer active] \nDr Padesky will present the following during the Evolution conference: \n\n1 Clinical Demonstration: Behavioral Experiments: Action-Based Learning\n1 Great Debate: Cognitive Behavioral Therapy and Buddhism/Mindfulness (with Jack Kornfield)\n2 Topical Panels: The Role of the Therapist and The Patient Therapist Relationship\n1 Speech: Would You Look for Something You Did Not Know Was Lost?\n2 Workshops: Mind Over Mood: Practical Applications for Therapists and More Walk\, Less Talk: Action-Packed Therapy\nAuthor’s Reception: Author’s Book Signing Reception\n\nELIGIBILITY: The Evolution of Psychotherapy is open to professionals in health or mental health-related fields\, including physicians\, doctoral-level psychologists and dentists who are qualified for membership in\, or are members of\, their respective professional organizations (eg. AMA\, APA\, ADA)\, and to professionals with health-related graduate degrees (eg. MSW\, MSN\, MA or MS) from accredited institutions. Full-time graduate students in accredited programs leading to such degrees will be accepted if they supply a letter from their department on letterhead stationery\, certifying their full-time status as of December 2017. \nREGISTRATION FEES: Full Conference or Single Day Admission required. See details for FEE SCHEDULE (once event ends\, link no longer valid). \nCONFERENCE INFORMATION: Visit the Evolution Website for up-to-date information \nRegister NOW for Full Conference Early Bird Discounts \n\n$199 – SINGLE DAY sessions only\n$649 – DEADLINE September 30\, 2017\n$699 – DEADLINE November 15\, 2017\n$999 – ONSITE\n\nSHARE with your Mental Health Colleagues
URL:https://www.padesky.com/event/evolution-psychotherapy-2017/
LOCATION:Anaheim Convention Center\, 800 W Katella Ave\, Anaheim\, CA\, 92802\, United States
CATEGORIES:EVOLUTION of Psychotherapy
ATTACH;FMTTYPE=image/png:https://www.padesky.com/wp-content/uploads/2016/07/EvolPsych2017-landingdates_opt350x140.png
END:VEVENT
END:VCALENDAR